BEGIN:VCALENDAR
VERSION:2.0
PRODID:-//Rock&#039;n&#039;Roll Club Flying Penguins - ECPv6.15.17//NONSGML v1.0//EN
CALSCALE:GREGORIAN
METHOD:PUBLISH
X-ORIGINAL-URL:https://www.flyingpenguins.ch
X-WR-CALDESC:Veranstaltungen für Rock&#039;n&#039;Roll Club Flying Penguins
REFRESH-INTERVAL;VALUE=DURATION:PT1H
X-Robots-Tag:noindex
X-PUBLISHED-TTL:PT1H
BEGIN:VTIMEZONE
TZID:Europe/Berlin
BEGIN:DAYLIGHT
TZOFFSETFROM:+0100
TZOFFSETTO:+0200
TZNAME:CEST
DTSTART:20250330T010000
END:DAYLIGHT
BEGIN:STANDARD
TZOFFSETFROM:+0200
TZOFFSETTO:+0100
TZNAME:CET
DTSTART:20251026T010000
END:STANDARD
BEGIN:DAYLIGHT
TZOFFSETFROM:+0100
TZOFFSETTO:+0200
TZNAME:CEST
DTSTART:20260329T010000
END:DAYLIGHT
BEGIN:STANDARD
TZOFFSETFROM:+0200
TZOFFSETTO:+0100
TZNAME:CET
DTSTART:20261025T010000
END:STANDARD
BEGIN:DAYLIGHT
TZOFFSETFROM:+0100
TZOFFSETTO:+0200
TZNAME:CEST
DTSTART:20270328T010000
END:DAYLIGHT
BEGIN:STANDARD
TZOFFSETFROM:+0200
TZOFFSETTO:+0100
TZNAME:CET
DTSTART:20271031T010000
END:STANDARD
END:VTIMEZONE
BEGIN:VEVENT
DTSTART;TZID=Europe/Berlin:20260530T000000
DTEND;TZID=Europe/Berlin:20260530T235959
DTSTAMP:20260425T182254
CREATED:20260118T113746Z
LAST-MODIFIED:20260118T113746Z
UID:782-1780099200-1780185599@www.flyingpenguins.ch
SUMMARY:Tag der guten Tat 2026
DESCRIPTION:
URL:https://www.flyingpenguins.ch/event/tag-der-guten-tat-2026/
LOCATION:Coop Wattwil
END:VEVENT
BEGIN:VEVENT
DTSTART;TZID=Europe/Berlin:20261107T000000
DTEND;TZID=Europe/Berlin:20261107T235959
DTSTAMP:20260425T182254
CREATED:20260118T113826Z
LAST-MODIFIED:20260118T113826Z
UID:786-1794009600-1794095999@www.flyingpenguins.ch
SUMMARY:Toggi-Cup 2026
DESCRIPTION:
URL:https://www.flyingpenguins.ch/event/toggi-cup-2026/
LOCATION:Schafbüchel Turnhalle
END:VEVENT
END:VCALENDAR