BEGIN:VCALENDAR
VERSION:2.0
PRODID:-//Rock&#039;n&#039;Roll Club Flying Penguins - ECPv6.15.17//NONSGML v1.0//EN
CALSCALE:GREGORIAN
METHOD:PUBLISH
X-WR-CALNAME:Rock&#039;n&#039;Roll Club Flying Penguins
X-ORIGINAL-URL:https://www.flyingpenguins.ch
X-WR-CALDESC:Veranstaltungen für Rock&#039;n&#039;Roll Club Flying Penguins
REFRESH-INTERVAL;VALUE=DURATION:PT1H
X-Robots-Tag:noindex
X-PUBLISHED-TTL:PT1H
BEGIN:VTIMEZONE
TZID:Europe/Berlin
BEGIN:DAYLIGHT
TZOFFSETFROM:+0100
TZOFFSETTO:+0200
TZNAME:CEST
DTSTART:20210328T010000
END:DAYLIGHT
BEGIN:STANDARD
TZOFFSETFROM:+0200
TZOFFSETTO:+0100
TZNAME:CET
DTSTART:20211031T010000
END:STANDARD
BEGIN:DAYLIGHT
TZOFFSETFROM:+0100
TZOFFSETTO:+0200
TZNAME:CEST
DTSTART:20220327T010000
END:DAYLIGHT
BEGIN:STANDARD
TZOFFSETFROM:+0200
TZOFFSETTO:+0100
TZNAME:CET
DTSTART:20221030T010000
END:STANDARD
BEGIN:DAYLIGHT
TZOFFSETFROM:+0100
TZOFFSETTO:+0200
TZNAME:CEST
DTSTART:20230326T010000
END:DAYLIGHT
BEGIN:STANDARD
TZOFFSETFROM:+0200
TZOFFSETTO:+0100
TZNAME:CET
DTSTART:20231029T010000
END:STANDARD
BEGIN:DAYLIGHT
TZOFFSETFROM:+0100
TZOFFSETTO:+0200
TZNAME:CEST
DTSTART:20240331T010000
END:DAYLIGHT
BEGIN:STANDARD
TZOFFSETFROM:+0200
TZOFFSETTO:+0100
TZNAME:CET
DTSTART:20241027T010000
END:STANDARD
BEGIN:DAYLIGHT
TZOFFSETFROM:+0100
TZOFFSETTO:+0200
TZNAME:CEST
DTSTART:20250330T010000
END:DAYLIGHT
BEGIN:STANDARD
TZOFFSETFROM:+0200
TZOFFSETTO:+0100
TZNAME:CET
DTSTART:20251026T010000
END:STANDARD
BEGIN:DAYLIGHT
TZOFFSETFROM:+0100
TZOFFSETTO:+0200
TZNAME:CEST
DTSTART:20260329T010000
END:DAYLIGHT
BEGIN:STANDARD
TZOFFSETFROM:+0200
TZOFFSETTO:+0100
TZNAME:CET
DTSTART:20261025T010000
END:STANDARD
BEGIN:DAYLIGHT
TZOFFSETFROM:+0100
TZOFFSETTO:+0200
TZNAME:CEST
DTSTART:20270328T010000
END:DAYLIGHT
BEGIN:STANDARD
TZOFFSETFROM:+0200
TZOFFSETTO:+0100
TZNAME:CET
DTSTART:20271031T010000
END:STANDARD
END:VTIMEZONE
BEGIN:VEVENT
DTSTART;TZID=Europe/Berlin:20260417T213000
DTEND;TZID=Europe/Berlin:20260417T220000
DTSTAMP:20260425T200312
CREATED:20260118T113657Z
LAST-MODIFIED:20260118T113657Z
UID:778-1776461400-1776463200@www.flyingpenguins.ch
SUMMARY:Auftritt Sport-verein-t Gala
DESCRIPTION:
URL:https://www.flyingpenguins.ch/event/auftritt-sport-verein-t-gala/
LOCATION:Olma Hallen
END:VEVENT
BEGIN:VEVENT
DTSTART;TZID=Europe/Berlin:20260227T000000
DTEND;TZID=Europe/Berlin:20260227T235959
DTSTAMP:20260425T200312
CREATED:20260118T113530Z
LAST-MODIFIED:20260118T113530Z
UID:775-1772150400-1772236799@www.flyingpenguins.ch
SUMMARY:41. HV
DESCRIPTION:
URL:https://www.flyingpenguins.ch/event/41-hv/
LOCATION:Schöntal\, Ebnat-Kappel\, Kapplerstrasse 25\, Ebnat-Kappel\, 9642
END:VEVENT
BEGIN:VEVENT
DTSTART;TZID=Europe/Berlin:20251129T000000
DTEND;TZID=Europe/Berlin:20251129T235959
DTSTAMP:20260425T200312
CREATED:20260118T112843Z
LAST-MODIFIED:20260118T112843Z
UID:773-1764374400-1764460799@www.flyingpenguins.ch
SUMMARY:Toggi-Cup 2025
DESCRIPTION:
URL:https://www.flyingpenguins.ch/event/toggi-cup-2025/
LOCATION:Schafbüchel Turnhalle
END:VEVENT
BEGIN:VEVENT
DTSTART;TZID=Europe/Berlin:20250517T000000
DTEND;TZID=Europe/Berlin:20250517T235959
DTSTAMP:20260425T200312
CREATED:20240909T160146Z
LAST-MODIFIED:20240909T160146Z
UID:624-1747440000-1747526399@www.flyingpenguins.ch
SUMMARY:Tanzshow
DESCRIPTION:Save the Date! Informationen werden folgen.
URL:https://www.flyingpenguins.ch/event/tanzshow/
LOCATION:Schafbüchel Turnhalle
END:VEVENT
BEGIN:VEVENT
DTSTART;TZID=Europe/Berlin:20241026T000000
DTEND;TZID=Europe/Berlin:20241026T235959
DTSTAMP:20260425T200312
CREATED:20240909T155857Z
LAST-MODIFIED:20241015T112126Z
UID:617-1729900800-1729987199@www.flyingpenguins.ch
SUMMARY:Toggi-Cup Ebnat-Kappel
DESCRIPTION:
URL:https://www.flyingpenguins.ch/event/toggi-cup-ebnat-kappel/
LOCATION:Wier Turnhalle
END:VEVENT
BEGIN:VEVENT
DTSTART;TZID=Europe/Berlin:20240928T000000
DTEND;TZID=Europe/Berlin:20240928T235959
DTSTAMP:20260425T200312
CREATED:20240909T160047Z
LAST-MODIFIED:20240909T160213Z
UID:614-1727481600-1727567999@www.flyingpenguins.ch
SUMMARY:ORBV Cup Seuzach
DESCRIPTION:
URL:https://www.flyingpenguins.ch/event/orbv-cup-seuzach/
LOCATION:Seuzach
END:VEVENT
BEGIN:VEVENT
DTSTART;TZID=Europe/Berlin:20240525T080000
DTEND;TZID=Europe/Berlin:20240525T170000
DTSTAMP:20260425T200312
CREATED:20230813T132959Z
LAST-MODIFIED:20230813T133051Z
UID:534-1716624000-1716656400@www.flyingpenguins.ch
SUMMARY:ORBV Cup Schaffhausen
DESCRIPTION:
URL:https://www.flyingpenguins.ch/event/orbv-cup-3/
END:VEVENT
BEGIN:VEVENT
DTSTART;TZID=Europe/Berlin:20240316T000000
DTEND;TZID=Europe/Berlin:20240316T235959
DTSTAMP:20260425T200312
CREATED:20230813T132929Z
LAST-MODIFIED:20230813T133106Z
UID:531-1710547200-1710633599@www.flyingpenguins.ch
SUMMARY:ORBV Cup Seuzach
DESCRIPTION:
URL:https://www.flyingpenguins.ch/event/orbv-cup-2/
END:VEVENT
BEGIN:VEVENT
DTSTART;TZID=Europe/Berlin:20240303T000000
DTEND;TZID=Europe/Berlin:20240303T235959
DTSTAMP:20260425T200312
CREATED:20230813T132815Z
LAST-MODIFIED:20230813T132815Z
UID:526-1709424000-1709510399@www.flyingpenguins.ch
SUMMARY:Wertungsrichterlehrgang ORBV
DESCRIPTION:
URL:https://www.flyingpenguins.ch/event/wertungsrichterlehrgang-orbv/
END:VEVENT
BEGIN:VEVENT
DTSTART;TZID=Europe/Berlin:20240218T000000
DTEND;TZID=Europe/Berlin:20240831T235959
DTSTAMP:20260425T200312
CREATED:20230813T132710Z
LAST-MODIFIED:20230813T132710Z
UID:522-1708214400-1725148799@www.flyingpenguins.ch
SUMMARY:ORBV Trainingstag
DESCRIPTION:
URL:https://www.flyingpenguins.ch/event/orbv-trainingstag-2/
END:VEVENT
BEGIN:VEVENT
DTSTART;TZID=Europe/Berlin:20240218T000000
DTEND;TZID=Europe/Berlin:20240218T235959
DTSTAMP:20260425T200312
CREATED:20230813T132739Z
LAST-MODIFIED:20230813T132739Z
UID:524-1708214400-1708300799@www.flyingpenguins.ch
SUMMARY:ORBV Trainerweiterbildung
DESCRIPTION:
URL:https://www.flyingpenguins.ch/event/orbv-trainerweiterbildung/
END:VEVENT
BEGIN:VEVENT
DTSTART;TZID=Europe/Berlin:20240120T000000
DTEND;TZID=Europe/Berlin:20240120T235959
DTSTAMP:20260425T200312
CREATED:20230813T132618Z
LAST-MODIFIED:20230813T132618Z
UID:519-1705708800-1705795199@www.flyingpenguins.ch
SUMMARY:ORBV Tanznacht
DESCRIPTION:
URL:https://www.flyingpenguins.ch/event/orbv-tanznacht/
END:VEVENT
BEGIN:VEVENT
DTSTART;TZID=Europe/Berlin:20231111T000000
DTEND;TZID=Europe/Berlin:20231111T235959
DTSTAMP:20260425T200312
CREATED:20230813T132447Z
LAST-MODIFIED:20230813T132503Z
UID:514-1699660800-1699747199@www.flyingpenguins.ch
SUMMARY:Steinbock Cup (ORBV)
DESCRIPTION:
URL:https://www.flyingpenguins.ch/event/steinbock-cup-orbv/
END:VEVENT
BEGIN:VEVENT
DTSTART;TZID=Europe/Berlin:20230916T000000
DTEND;TZID=Europe/Berlin:20230916T235959
DTSTAMP:20260425T200312
CREATED:20230110T215044Z
LAST-MODIFIED:20230110T215044Z
UID:409-1694822400-1694908799@www.flyingpenguins.ch
SUMMARY:Clubshow
DESCRIPTION:
URL:https://www.flyingpenguins.ch/event/clubshow/
END:VEVENT
BEGIN:VEVENT
DTSTART;TZID=Europe/Berlin:20230819T000000
DTEND;TZID=Europe/Berlin:20230819T235959
DTSTAMP:20260425T200312
CREATED:20230110T215021Z
LAST-MODIFIED:20230110T215021Z
UID:407-1692403200-1692489599@www.flyingpenguins.ch
SUMMARY:Show Feldschiessen EK
DESCRIPTION:
URL:https://www.flyingpenguins.ch/event/show-feldschiessen-ek/
END:VEVENT
BEGIN:VEVENT
DTSTART;TZID=Europe/Berlin:20230402T090000
DTEND;TZID=Europe/Berlin:20230402T160000
DTSTAMP:20260425T200312
CREATED:20230331T060616Z
LAST-MODIFIED:20230331T060616Z
UID:449-1680426000-1680451200@www.flyingpenguins.ch
SUMMARY:Sonntagstraining
DESCRIPTION:
URL:https://www.flyingpenguins.ch/event/sonntagstraining/
LOCATION:Gill Turnhalle
END:VEVENT
BEGIN:VEVENT
DTSTART;TZID=Europe/Berlin:20230324T193000
DTEND;TZID=Europe/Berlin:20230324T220000
DTSTAMP:20260425T200312
CREATED:20230110T214916Z
LAST-MODIFIED:20230113T180445Z
UID:405-1679686200-1679695200@www.flyingpenguins.ch
SUMMARY:Hauptversammlung
DESCRIPTION:
URL:https://www.flyingpenguins.ch/event/hauptversammlung/
END:VEVENT
BEGIN:VEVENT
DTSTART;TZID=Europe/Berlin:20230305T000000
DTEND;TZID=Europe/Berlin:20230305T235959
DTSTAMP:20260425T200312
CREATED:20230206T185608Z
LAST-MODIFIED:20230206T185608Z
UID:415-1677974400-1678060799@www.flyingpenguins.ch
SUMMARY:ORBV-Trainingstag
DESCRIPTION:
URL:https://www.flyingpenguins.ch/event/orbv-trainingstag/
END:VEVENT
BEGIN:VEVENT
DTSTART;TZID=Europe/Berlin:20220618T210000
DTEND;TZID=Europe/Berlin:20220618T213000
DTSTAMP:20260425T200312
CREATED:20220612T202437Z
LAST-MODIFIED:20220612T202437Z
UID:5-1655586000-1655587800@www.flyingpenguins.ch
SUMMARY:Show DV Trachtenverein
DESCRIPTION:Wir sind sehr dankbar\, dass wir am 18. Juni an der Delegiertenversammlung der Trachtenvereine unsere Show zeigen dürfen. Herzlichen Dank.
URL:https://www.flyingpenguins.ch/event/show-dv-trachtenverein/
END:VEVENT
END:VCALENDAR